BEGIN:VCALENDAR
PRODID:-//AT Content Types//AT Event//EN
VERSION:1.0
BEGIN:VEVENT
DTSTART:20141127T070000Z
DTEND:20141127T150000Z
DCREATED:20150310T103724Z
UID:ATEvent-db8df5dca41842959df3989b36265493
SEQUENCE:0
LAST-MODIFIED:20151126T103848Z
SUMMARY:1st ENISA Cyber Security Strategies workshop
DESCRIPTION:ENISA is pleased to announce workshop on Cyber Security St
 rategies.
LOCATION:Brussels
PRIORITY:3
TRANSP:0
END:VEVENT
END:VCALENDAR
